BEGIN:VCALENDAR
VERSION:2.0
PRODID:-//LFG//NONSGML kigkonsult.se iCalcreator 2.30.10//
CALSCALE:GREGORIAN
METHOD:PUBLISH
UID:93c702de-f443-4ce6-8824-8fdaf39f475d
X-WR-CALNAME:iCagenda
X-WR-CALDESC:Event Management Extension for Joomla!
X-WR-RELCALID:3E26604A-50F4-4449-8B3E-E4F4932D05B5
X-WR-TIMEZONE:Europe/Zurich
BEGIN:VTIMEZONE
TZID:Europe/Zurich
BEGIN:STANDARD
TZNAME:CET
DTSTART:20221030T030000
TZOFFSETFROM:+0200
TZOFFSETTO:+0100
RDATE:20231029T030000
END:STANDARD
BEGIN:DAYLIGHT
TZNAME:CEST
DTSTART:20220327T020000
TZOFFSETFROM:+0100
TZOFFSETTO:+0200
RDATE:20230326T020000
RDATE:20240331T020000
END:DAYLIGHT
END:VTIMEZONE
BEGIN:VEVENT
UID:e4bb2d9e-39f1-45ee-aaf4-ccf5660b96e2
DTSTAMP:20260424T083902Z
CATEGORIES:Cliquen Event
CLASS:PUBLIC
DESCRIPTION;ALTREP="CID:<FFFF__=0ABBE548DFE235B58f9e8a93d@coffeebean.com>":
DTSTART:20221112T170000Z
DTEND:20221113T020000Z
GEO:00;0
LOCATION:MZH Bleienbach
ORGANIZER;CN=:tour.chlepf-schitter@outlook.com
SEQUENCE:1
SUMMARY:Chlepf-Schitter Guggete 22
TRANSP:OPAQUE
URL:https://www.lfg.ch/icagenda/50-chlepf-schitter-guggete-23
END:VEVENT
END:VCALENDAR
