BEGIN:VCALENDAR
VERSION:2.0
PRODID:-//LFG//NONSGML kigkonsult.se iCalcreator 2.30.10//
CALSCALE:GREGORIAN
METHOD:PUBLISH
UID:84aa059f-8b04-44f3-b573-4d8a1e6df820
X-WR-CALNAME:iCagenda
X-WR-CALDESC:Event Management Extension for Joomla!
X-WR-RELCALID:3E26604A-50F4-4449-8B3E-E4F4932D05B5
X-WR-TIMEZONE:Europe/Zurich
BEGIN:VTIMEZONE
TZID:Europe/Zurich
BEGIN:STANDARD
TZNAME:CET
DTSTART:20221030T030000
TZOFFSETFROM:+0200
TZOFFSETTO:+0100
RDATE:20231029T030000
END:STANDARD
BEGIN:DAYLIGHT
TZNAME:CEST
DTSTART:20220327T020000
TZOFFSETFROM:+0100
TZOFFSETTO:+0200
RDATE:20230326T020000
RDATE:20240331T020000
END:DAYLIGHT
END:VTIMEZONE
BEGIN:VEVENT
UID:4961799a-ecd7-406d-9b59-9dec5d206eed
DTSTAMP:20260423T104020Z
CATEGORIES:Cliquen Event
CLASS:PUBLIC
DESCRIPTION:
DTSTART:20230224T190000Z
DTEND:20230225T020000Z
GEO:00;0
LOCATION:MZH Bleienbach
ORGANIZER;CN=:tour.chlepf-schitter@outlook.com
SEQUENCE:1
SUMMARY:Chlepf Schitter Maskenball 2023
TRANSP:OPAQUE
URL:https://www.lfg.ch/icagenda/51-maskenball-2023
END:VEVENT
END:VCALENDAR
