BEGIN:VCALENDAR
VERSION:2.0
PRODID:-//LFG//NONSGML kigkonsult.se iCalcreator 2.30.10//
CALSCALE:GREGORIAN
METHOD:PUBLISH
UID:981e0e03-01c4-4ea3-87c2-7d68dc622a25
X-WR-CALNAME:iCagenda
X-WR-CALDESC:Event Management Extension for Joomla!
X-WR-RELCALID:3E26604A-50F4-4449-8B3E-E4F4932D05B5
X-WR-TIMEZONE:Europe/Zurich
BEGIN:VTIMEZONE
TZID:Europe/Zurich
BEGIN:STANDARD
TZNAME:CET
DTSTART:20231029T030000
TZOFFSETFROM:+0200
TZOFFSETTO:+0100
RDATE:20241027T030000
END:STANDARD
BEGIN:DAYLIGHT
TZNAME:CEST
DTSTART:20230326T020000
TZOFFSETFROM:+0100
TZOFFSETTO:+0200
RDATE:20240331T020000
RDATE:20250330T020000
END:DAYLIGHT
END:VTIMEZONE
BEGIN:VEVENT
UID:ef1070b7-fcff-4c4e-b718-ec62cdf37274
DTSTAMP:20260424T100311Z
CATEGORIES:Cliquen Event
CLASS:PUBLIC
DESCRIPTION:
DTSTART:20240113T190000Z
DTEND:20240114T010000Z
GEO:00;0
LOCATION:MZH Aarwangen
ORGANIZER;CN=:andre.kofmel76@gmail.com
SEQUENCE:1
SUMMARY:Lärmer-Party Aarwangen
TRANSP:OPAQUE
URL:https://www.lfg.ch/icagenda/67-laermer-party-aarwangen
END:VEVENT
END:VCALENDAR
