BEGIN:VCALENDAR
VERSION:2.0
PRODID:-//LFG//NONSGML kigkonsult.se iCalcreator 2.30.10//
CALSCALE:GREGORIAN
METHOD:PUBLISH
UID:025b72d4-9673-4284-86e9-f14ac8baddc1
X-WR-CALNAME:iCagenda
X-WR-CALDESC:Event Management Extension for Joomla!
X-WR-RELCALID:3E26604A-50F4-4449-8B3E-E4F4932D05B5
X-WR-TIMEZONE:Europe/Zurich
BEGIN:VTIMEZONE
TZID:Europe/Zurich
BEGIN:STANDARD
TZNAME:CET
DTSTART:20231029T030000
TZOFFSETFROM:+0200
TZOFFSETTO:+0100
RDATE:20241027T030000
END:STANDARD
BEGIN:DAYLIGHT
TZNAME:CEST
DTSTART:20230326T020000
TZOFFSETFROM:+0100
TZOFFSETTO:+0200
RDATE:20240331T020000
RDATE:20250330T020000
END:DAYLIGHT
END:VTIMEZONE
BEGIN:VEVENT
UID:181d6aa0-9788-455f-b966-5e9da35ee954
DTSTAMP:20260421T034046Z
CATEGORIES:Cliquen Event
CLASS:PUBLIC
DESCRIPTION:
DTSTART:20240203T190000Z
DTEND:20240204T010000Z
GEO:00;0
LOCATION:Hotel Bären Langenthal
ORGANIZER;CN=:tour@akkordwuerger.ch
SEQUENCE:1
SUMMARY:Würgerball 2024
TRANSP:OPAQUE
URL:https://www.lfg.ch/icagenda/69-wuergerball-2024
END:VEVENT
END:VCALENDAR
